BEGIN:VCALENDAR
VERSION:2.0
PRODID:icalendar-ruby
CALSCALE:GREGORIAN
METHOD:PUBLISH
BEGIN:VEVENT
DTSTAMP:20260424T164754Z
UID:37-1835955@oneontaag.com
DTSTART:20260930T223000Z
DTEND:20261001T000000Z
CLASS:PUBLIC
CREATED:20260424T105436
DESCRIPTION:
LAST-MODIFIED:20260424T105436
LOCATION:Oneonta Assembly of God
SUMMARY:Wednesday Family Night Church
URL;VALUE=URI:https://www.oneontaag.com/events/wednesday-family-night-churc
 h/2026-09-30
ATTACH;FILENAME=fAMILY nIGHT.png;FMTTYPE=image/png:https://dq5pwpg1q8ru0.cl
 oudfront.net/2026/01/30/18/10/15/2a6577b4-3fa7-43e0-9e77-9582bd950d6c/fAMI
 LY%20nIGHT.png
END:VEVENT
END:VCALENDAR
