BEGIN:VCALENDAR
VERSION:2.0
PRODID:icalendar-ruby
CALSCALE:GREGORIAN
METHOD:PUBLISH
BEGIN:VEVENT
DTSTAMP:20260422T115036Z
UID:144-1818903@oneontaag.com
DTSTART:20260507T223000Z
DTEND:20260508T000000Z
CLASS:PUBLIC
CREATED:20260421T145330
DESCRIPTION:Let's come together as a community on Thursday May 7th @ 6:30 p
 m at the Oneonta Assembly of God for a time of prayer. 
LAST-MODIFIED:20260421T145330
LOCATION:Oneonta Assembly of God
SUMMARY:75TH NATIONAL DAY OF PRAYER
URL;VALUE=URI:https://www.oneontaag.com/events/75th-national-day-of-prayer/
 2026-05-07
ATTACH;FILENAME=ndp fCEBBOK.jpg;FMTTYPE=image/jpeg:https://dq5pwpg1q8ru0.cl
 oudfront.net/2026/04/21/18/53/29/9479dfa3-b310-4032-9001-030d1ce50c87/ndp%
 20fCEBBOK.jpg
END:VEVENT
END:VCALENDAR
